BEGIN:VCALENDAR
VERSION:2.0
PRODID:-//SoundsGood - ECPv4.9.4//NONSGML v1.0//EN
CALSCALE:GREGORIAN
METHOD:PUBLISH
X-WR-CALNAME:SoundsGood
X-ORIGINAL-URL:https://soundsgood.guide
X-WR-CALDESC:Events for SoundsGood
BEGIN:VTIMEZONE
TZID:"Pacific/Auckland"
BEGIN:STANDARD
TZOFFSETFROM:+1300
TZOFFSETTO:+1200
TZNAME:NZST
DTSTART:20250405T140000
END:STANDARD
BEGIN:DAYLIGHT
TZOFFSETFROM:+1200
TZOFFSETTO:+1300
TZNAME:NZDT
DTSTART:20250927T140000
END:DAYLIGHT
END:VTIMEZONE
BEGIN:VEVENT
DTSTART;TZID="Pacific/Auckland":20250613T203000
DTEND;TZID="Pacific/Auckland":20250613T230000
DTSTAMP:20260420T015423
CREATED:20250526T022430Z
LAST-MODIFIED:20250526T022430Z
UID:25673-1749846600-1749855600@soundsgood.guide
SUMMARY:StupidSaysWHAT!?\, w/ Analise Petronella
DESCRIPTION:After such an astounding turnout at their last gig\, StupidSaysWHAT!? Are back at Wunderbar to perform a curated mix of covers and originals\, including fresh never-before-heard songs! \nWe’ve brought back audience favourite Analise Petronella to open for us\, also playing a mix of covers and her own originals on acoustic guitar. \nAs this show is taking place on Friday the 13th\, themed costumes are encouraged! \nBio:\nStupidSaysWHAT!? are a four-piece independent rock band located in Christchurch\, New Zealand whose music takes inspiration from the likes of Arctic Monkeys\, Panic! At The Disco\, Fall Out Boy\, and Ben Folds. After placing third in Rockquest 2024 for the Canterbury region\, StupidSaysWHAT!? went on to release their first single\, Evelin in early 2025\, which has since racked up over 4000 streams. \nPlease note:\nWunderbar Lyttleton is an 18+ venue\, those under 18 will need supervision by an attending parent/guardian. \n
URL:https://soundsgood.guide/gig/stupidsayswhat-w-analise-petronella/
LOCATION:Wunderbar\, 14 Canterbury Street\, Lyttelton\, 8082\, New Zealand
CATEGORIES:Gig
ATTACH;FMTTYPE=image/png:https://soundsgood.guide/wp-content/uploads/2025/05/96561-410522.png
END:VEVENT
END:VCALENDAR