BEGIN:VCALENDAR
VERSION:2.0
PRODID:-//SoundsGood - ECPv4.9.4//NONSGML v1.0//EN
CALSCALE:GREGORIAN
METHOD:PUBLISH
X-WR-CALNAME:SoundsGood
X-ORIGINAL-URL:https://soundsgood.guide
X-WR-CALDESC:Events for SoundsGood
BEGIN:VTIMEZONE
TZID:"Pacific/Auckland"
BEGIN:STANDARD
TZOFFSETFROM:+1300
TZOFFSETTO:+1200
TZNAME:NZST
DTSTART:20250405T140000
END:STANDARD
BEGIN:DAYLIGHT
TZOFFSETFROM:+1200
TZOFFSETTO:+1300
TZNAME:NZDT
DTSTART:20250927T140000
END:DAYLIGHT
END:VTIMEZONE
BEGIN:VEVENT
DTSTART;TZID="Pacific/Auckland":20250131T210000
DTEND;TZID="Pacific/Auckland":20250201T020000
DTSTAMP:20260421T081301
CREATED:20250126T223012Z
LAST-MODIFIED:20250126T223012Z
UID:24654-1738357200-1738375200@soundsgood.guide
SUMMARY:SUBTLE SOUND SYSTEM INNAMIND RECORDINGS AGO / NINA / HIJINX
DESCRIPTION:SUBTLE SOUND SYSTEM proudly presents…..\nINNAMIND RECORDINGS feat.\nAGO // NINA // HIJINX\nsupport = MOST KNOWN UNKNOWN\nTickets available now from Cosmic Ticketing.\n
URL:https://soundsgood.guide/gig/subtle-sound-system-innamind-recordings-ago-nina-hijinx/
LOCATION:Galaxy Bar\, 206 Barbadoes Street\, New Zealand
CATEGORIES:DJ Night
ATTACH;FMTTYPE=image/jpeg:https://soundsgood.guide/wp-content/uploads/2025/01/4d6bb102f5eff5b694155b0bf055e93a.jpg
END:VEVENT
END:VCALENDAR