BEGIN:VCALENDAR
VERSION:2.0
PRODID:-//SoundsGood - ECPv4.9.4//NONSGML v1.0//EN
CALSCALE:GREGORIAN
METHOD:PUBLISH
X-WR-CALNAME:SoundsGood
X-ORIGINAL-URL:https://soundsgood.guide
X-WR-CALDESC:Events for SoundsGood
BEGIN:VTIMEZONE
TZID:"Pacific/Auckland"
BEGIN:STANDARD
TZOFFSETFROM:+1300
TZOFFSETTO:+1200
TZNAME:NZST
DTSTART:20240406T140000
END:STANDARD
BEGIN:DAYLIGHT
TZOFFSETFROM:+1200
TZOFFSETTO:+1300
TZNAME:NZDT
DTSTART:20240928T140000
END:DAYLIGHT
END:VTIMEZONE
BEGIN:VEVENT
DTSTART;TZID="Pacific/Auckland":20241026T203000
DTEND;TZID="Pacific/Auckland":20241026T233000
DTSTAMP:20260422T113306
CREATED:20240916T222820Z
LAST-MODIFIED:20240916T222820Z
UID:23644-1729974600-1729985400@soundsgood.guide
SUMMARY:Tess Liautaud Album Release Show
DESCRIPTION:In celebration of her new album ‘Blue Mind’ Tess Liautaud will play one live intimate show with her band. \nThis album takes a leap from the previous indie-folk warmth of her self-titled debut into the natural conclusion of all Liautaud has to offer. While her song-writing stems from the same reflective place she now leads her band into thunder clouds\, bringing this collection of songs alive in all their folk\, roots and rock & roll glory. \nThe full band with all the frills\, at Ōtautahi favourite\, Space Academy. \nDoors 8pm\nMusic 8:30 \n
URL:https://soundsgood.guide/gig/tess-liautaud-album-release-show/
LOCATION:Space Academy\, 371 St Asaph St\, Christchurch\, 8011\, New Zealand
CATEGORIES:Gig,Release
ATTACH;FMTTYPE=image/jpeg:https://soundsgood.guide/wp-content/uploads/2024/09/92139-634478.jpg
END:VEVENT
END:VCALENDAR