BEGIN:VCALENDAR
VERSION:2.0
PRODID:-//SoundsGood - ECPv4.9.4//NONSGML v1.0//EN
CALSCALE:GREGORIAN
METHOD:PUBLISH
X-WR-CALNAME:SoundsGood
X-ORIGINAL-URL:https://soundsgood.guide
X-WR-CALDESC:Events for SoundsGood
BEGIN:VTIMEZONE
TZID:"Pacific/Auckland"
BEGIN:STANDARD
TZOFFSETFROM:+1300
TZOFFSETTO:+1200
TZNAME:NZST
DTSTART:20250405T140000
END:STANDARD
BEGIN:DAYLIGHT
TZOFFSETFROM:+1200
TZOFFSETTO:+1300
TZNAME:NZDT
DTSTART:20250927T140000
END:DAYLIGHT
END:VTIMEZONE
BEGIN:VEVENT
DTSTART;TZID="Pacific/Auckland":20251121T203000
DTEND;TZID="Pacific/Auckland":20251122T030000
DTSTAMP:20260420T045613
CREATED:20251028T021959Z
LAST-MODIFIED:20251028T021959Z
UID:26384-1763757000-1763780400@soundsgood.guide
SUMMARY:Thank God It's Techno by The Temple of Techno
DESCRIPTION:Friday Night.\n4 DJs.\nCome to dance…\nwith a view of Lyttleton Harbour\nand… THANK GOD IT’S TECHNO \nAfter three big events\, we’re heading back to the beloved Wunderbar for a more intimate journey through the technoverse —» with some very special names on the decks.\nAs the scene keeps growing across Aotearoa\, we can feel the currents shifting —» the energy\, the people\, the sound —» all building\, gaining power. We’re here to channel it\, one event at a time. \n_________________________________________________ \nWho is playing? \nVic Lo — returning to the decks\, crafting an organic\, progressive techno journey made specially for the Temple.\nOctave Parango — a Temple resident delivering his raw\, driving energy; with sets that hit hard no matter the hour\, giving you a chance to see him play before he takes a short break from the Temple line-up.\nPrince Kaspian — throwing shapes on the floor in the underground techno scene in Auckland since 2023\, debuting at the Temple and serving up a Detroit-inspired hardgroove set.\nAndialou — returning after his explosive debut at The Groovatory\, bringing back that signature groovy techno —» get ready for a lot of dancing! \n_________________________________________________ \nAt the Temple of Techno\, we believe in the transcendent nature of the communal dancing experience and we want to share that with you. Our goal is to provide a dedicated platform for techno DJs while also creating a safe and welcoming space for devotees to experience the raw power of repetitive beats and deep bass. \nRAVE =\ninclusivity and acceptance\,\nfreedom of expression\,\nmindfulness and respect\,\nlove and unity \nWhat to expect?\ndancing > anything else\nlicensed venue NO BYO\ncarpark available\n18+ \nLocation: WunderBar\, Lyttelton\nWhen:\n21st of November // Friday // 8:30pm-3am\nCome early\, and make the most of it!\n_________________________________________________ \nONLY 100 Tickets —» grab yours now \n$18 Early Bird PASS\n$25 Second Release\n$30 Third Release // Door \n—» SEE YOU ON THE SWEATY DANCEFLOOR!!! \n
URL:https://soundsgood.guide/gig/thank-god-its-techno-by-the-temple-of-techno/
LOCATION:Wunderbar\, 14 Canterbury Street\, Lyttelton\, 8082\, New Zealand
CATEGORIES:Gig
ATTACH;FMTTYPE=image/jpeg:https://soundsgood.guide/wp-content/uploads/2025/10/download-1.jpeg
END:VEVENT
END:VCALENDAR