BEGIN:VCALENDAR
VERSION:2.0
PRODID:-//SoundsGood - ECPv4.9.4//NONSGML v1.0//EN
CALSCALE:GREGORIAN
METHOD:PUBLISH
X-WR-CALNAME:SoundsGood
X-ORIGINAL-URL:https://soundsgood.guide
X-WR-CALDESC:Events for SoundsGood
BEGIN:VTIMEZONE
TZID:"Pacific/Auckland"
BEGIN:STANDARD
TZOFFSETFROM:+1300
TZOFFSETTO:+1200
TZNAME:NZST
DTSTART:20250405T140000
END:STANDARD
BEGIN:DAYLIGHT
TZOFFSETFROM:+1200
TZOFFSETTO:+1300
TZNAME:NZDT
DTSTART:20250927T140000
END:DAYLIGHT
END:VTIMEZONE
BEGIN:VEVENT
DTSTART;TZID="Pacific/Auckland":20251003T203000
DTEND;TZID="Pacific/Auckland":20251003T223000
DTSTAMP:20260420T030517
CREATED:20250923T030031Z
LAST-MODIFIED:20250923T030031Z
UID:26298-1759523400-1759530600@soundsgood.guide
SUMMARY:The Advocators With Just Janie
DESCRIPTION:The Advocators are a hostile gospel stomp rock duo hailing from Maungaturoto\, Northland. Their first foray to the South Island takes them straight to the famed Wunderbar in Lyttleton. Known for their raw\, vintage sound\, they will showcase songs off their critically acclaimed debut album ‘Songs from an Endless Night’. \nJoining them for the evening is Just Janie\, an alt-folk musician based in Christchurch. Just Janie’s music is a captivating and tender menagerie\, weaving folk influences with hints of country and Americana. Hers is an angelic voice not to be missed! Her new single ‘Cherry’ was released on August 8. See less \n
URL:https://soundsgood.guide/gig/the-advocators-with-just-janie/
LOCATION:Wunderbar\, 14 Canterbury Street\, Lyttelton\, 8082\, New Zealand
CATEGORIES:Gig
ATTACH;FMTTYPE=image/png:https://soundsgood.guide/wp-content/uploads/2025/09/98071-478495.png
END:VEVENT
END:VCALENDAR