BEGIN:VCALENDAR
VERSION:2.0
PRODID:-//SoundsGood - ECPv4.9.4//NONSGML v1.0//EN
CALSCALE:GREGORIAN
METHOD:PUBLISH
X-WR-CALNAME:SoundsGood
X-ORIGINAL-URL:https://soundsgood.guide
X-WR-CALDESC:Events for SoundsGood
BEGIN:VTIMEZONE
TZID:"Pacific/Auckland"
BEGIN:STANDARD
TZOFFSETFROM:+1300
TZOFFSETTO:+1200
TZNAME:NZST
DTSTART:20240406T140000
END:STANDARD
BEGIN:DAYLIGHT
TZOFFSETFROM:+1200
TZOFFSETTO:+1300
TZNAME:NZDT
DTSTART:20240928T140000
END:DAYLIGHT
END:VTIMEZONE
BEGIN:VEVENT
DTSTART;TZID="Pacific/Auckland":20240726T200000
DTEND;TZID="Pacific/Auckland":20240726T233000
DTSTAMP:20260420T054807
CREATED:20240505T235142Z
LAST-MODIFIED:20240505T235142Z
UID:22437-1722024000-1722036600@soundsgood.guide
SUMMARY:The Dreggs
DESCRIPTION:Presented by Strung Out Touring\, Lonely Lands Agency and Unified Music Group present \n  \nTo celebrate the release of our debut album ‘Caught in a Reverie’\, we’re gonna be hitting the road playing major cities around Australia and New Zealand in June and July 2024.     \n  \nWith an album’s worth of new material\, we can’t wait to head out to play these brand new songs live.    \n  \nFor anyone that’s been to one of our shows in the past\, you know the drill… for any first timers\, warm up those voices!  Let’s make these shows nights to remember.   \n  \nLots of Love\, The Dreggs x \n  \nGeneral Admission – $45.00 + Booking Fee \nPublic Tickets on sale from 27th March. \n  \nSign up for Pre Sale Access – Pre Sales start 10am 25th March \n
URL:https://soundsgood.guide/gig/the-dreggs/
LOCATION:The Church\, 124 Worchester Street\, Christchurch\, 8011\, New Zealand
CATEGORIES:Gig,Tour
ATTACH;FMTTYPE=image/png:https://soundsgood.guide/wp-content/uploads/2024/05/Screenshot-2024-05-06-115118.png
END:VEVENT
END:VCALENDAR