BEGIN:VCALENDAR
VERSION:2.0
PRODID:-//SoundsGood - ECPv4.9.4//NONSGML v1.0//EN
CALSCALE:GREGORIAN
METHOD:PUBLISH
X-WR-CALNAME:SoundsGood
X-ORIGINAL-URL:https://soundsgood.guide
X-WR-CALDESC:Events for SoundsGood
BEGIN:VTIMEZONE
TZID:"Pacific/Auckland"
BEGIN:STANDARD
TZOFFSETFROM:+1300
TZOFFSETTO:+1200
TZNAME:NZST
DTSTART:20240406T140000
END:STANDARD
BEGIN:DAYLIGHT
TZOFFSETFROM:+1200
TZOFFSETTO:+1300
TZNAME:NZDT
DTSTART:20240928T140000
END:DAYLIGHT
END:VTIMEZONE
BEGIN:VEVENT
DTSTART;TZID="Pacific/Auckland":20241109T080000
DTEND;TZID="Pacific/Auckland":20241109T230000
DTSTAMP:20260422T071935
CREATED:20241006T200813Z
LAST-MODIFIED:20241006T200813Z
UID:23806-1731139200-1731193200@soundsgood.guide
SUMMARY:The Glass Eye + Les Monte Young's
DESCRIPTION:Electronica from the left field \n
URL:https://soundsgood.guide/gig/the-glass-eye-les-monte-youngs/
LOCATION:Lyttelton Coffee Company.\, Christchurch\, NZ
ATTACH;FMTTYPE=image/jpeg:https://soundsgood.guide/wp-content/uploads/2024/10/LCC-Poster.jpg
END:VEVENT
END:VCALENDAR