BEGIN:VCALENDAR
VERSION:2.0
PRODID:-//SoundsGood - ECPv4.9.4//NONSGML v1.0//EN
CALSCALE:GREGORIAN
METHOD:PUBLISH
X-WR-CALNAME:SoundsGood
X-ORIGINAL-URL:https://soundsgood.guide
X-WR-CALDESC:Events for SoundsGood
BEGIN:VTIMEZONE
TZID:"Pacific/Auckland"
BEGIN:STANDARD
TZOFFSETFROM:+1300
TZOFFSETTO:+1200
TZNAME:NZST
DTSTART:20250405T140000
END:STANDARD
BEGIN:DAYLIGHT
TZOFFSETFROM:+1200
TZOFFSETTO:+1300
TZNAME:NZDT
DTSTART:20250927T140000
END:DAYLIGHT
END:VTIMEZONE
BEGIN:VEVENT
DTSTART;TZID="Pacific/Auckland":20250411T200000
DTEND;TZID="Pacific/Auckland":20250411T230000
DTSTAMP:20260424T180905
CREATED:20250317T015624Z
LAST-MODIFIED:20250317T015624Z
UID:25135-1744401600-1744412400@soundsgood.guide
SUMMARY:The Mulls w/ S.E.I.S.M.I.C.\, SWIPERS and Wilieu
DESCRIPTION:“The Mulls” triumphantly return after spending two years separated by large bodies of water. They will bring their 30% emo\, 100% music\, music set to the Darkroom on Friday 11th April 2025.\nHaving made the move from Te Whanganui-a-Tara back to the NEW cultural capital of Aotearoa\, Ōtautahi\, they come with a bunch of new songs\, a slightly different line-up\, and a better understanding of themselves\, all of which will culminate in an evening of kind-of emo kind-of punk music!\nThey are joined by the loveliest line-up of new and old friends: S.E.I.S.M.I.C\, SWIPERS\, and Wilieu\, who all freakin rule!!\n@ Darkroom\nFriday 11th April 2025\, Doors 7:30pm\, first band 8:00pm\, Wilieu DJ set to close. \n
URL:https://soundsgood.guide/gig/the-mulls-w-s-e-i-s-m-i-c-swipers-and-wilieu/
LOCATION:darkroom\, 336 St. Asaph St\, Christchurch\, 8011\, New Zealand
CATEGORIES:Gig
ATTACH;FMTTYPE=image/png:https://soundsgood.guide/wp-content/uploads/2025/03/95371-476610.png
END:VEVENT
END:VCALENDAR