BEGIN:VCALENDAR
VERSION:2.0
PRODID:-//SoundsGood - ECPv4.9.4//NONSGML v1.0//EN
CALSCALE:GREGORIAN
METHOD:PUBLISH
X-WR-CALNAME:SoundsGood
X-ORIGINAL-URL:https://soundsgood.guide
X-WR-CALDESC:Events for SoundsGood
BEGIN:VTIMEZONE
TZID:"Pacific/Auckland"
BEGIN:STANDARD
TZOFFSETFROM:+1300
TZOFFSETTO:+1200
TZNAME:NZST
DTSTART:20250405T140000
END:STANDARD
BEGIN:DAYLIGHT
TZOFFSETFROM:+1200
TZOFFSETTO:+1300
TZNAME:NZDT
DTSTART:20250927T140000
END:DAYLIGHT
END:VTIMEZONE
BEGIN:VEVENT
DTSTART;TZID="Pacific/Auckland":20251004T210000
DTEND;TZID="Pacific/Auckland":20251004T230000
DTSTAMP:20260420T000928
CREATED:20250923T031106Z
LAST-MODIFIED:20250923T031106Z
UID:26307-1759611600-1759618800@soundsgood.guide
SUMMARY:The Tiny Dangers Album Release
DESCRIPTION:The Tiny Dangers Album Release Show featuring: \nThe Tiny Dangers\nViolet French & the Woolston Operatic Society\nDaniel Madill \n
URL:https://soundsgood.guide/gig/the-tiny-dangers-album-release/
LOCATION:Space Academy\, 371 St Asaph St\, Christchurch\, 8011\, New Zealand
CATEGORIES:Gig
ATTACH;FMTTYPE=image/png:https://soundsgood.guide/wp-content/uploads/2025/09/98532-944611.png
END:VEVENT
END:VCALENDAR