BEGIN:VCALENDAR
VERSION:2.0
PRODID:-//SoundsGood - ECPv4.9.4//NONSGML v1.0//EN
CALSCALE:GREGORIAN
METHOD:PUBLISH
X-WR-CALNAME:SoundsGood
X-ORIGINAL-URL:https://soundsgood.guide
X-WR-CALDESC:Events for SoundsGood
BEGIN:VTIMEZONE
TZID:"Pacific/Auckland"
BEGIN:STANDARD
TZOFFSETFROM:+1300
TZOFFSETTO:+1200
TZNAME:NZST
DTSTART:20250405T140000
END:STANDARD
BEGIN:DAYLIGHT
TZOFFSETFROM:+1200
TZOFFSETTO:+1300
TZNAME:NZDT
DTSTART:20250927T140000
END:DAYLIGHT
END:VTIMEZONE
BEGIN:VEVENT
DTSTART;TZID="Pacific/Auckland":20250124T203000
DTEND;TZID="Pacific/Auckland":20250124T233000
DTSTAMP:20260421T091850
CREATED:20250112T215714Z
LAST-MODIFIED:20250112T215714Z
UID:24396-1737750600-1737761400@soundsgood.guide
SUMMARY:U-No Juno - Sick Of Home Tour
DESCRIPTION:Upcoming Ōtepoti band U-NO JUNO are leaving their nest and embarking on a nationwide tour of Aotearoa in support of their debut EP Sex\, Science\, Socialism and Something Else.\nThe young trio use dreamy melodies paired with fuzzed out riffs and walls of noise to create a sound that sits somewhere between post-hardcore and 90s shoegaze\, with a twist of bathroom mould. \nTour Dates:\nJan 18 – Waihōpai/Invercargill – Three’s and Seven’s\nJan 24 – Ōtautahi/Christchurch – Darkroom\nJan 25 – Ōhinehou/Lyttleton – Wunderbar\nFeb 02 – Pōneke/Wellington – Moon\nFeb 07 – Papaioea/Palmerston North – The Stomach\nFeb 13 – Tāmaki/Auckland – 605\nFeb 14 – Kirikiriroa/Hamilton – Nirvara Lounge \n
URL:https://soundsgood.guide/gig/u-no-juno-sick-of-home-tour/
LOCATION:darkroom\, 336 St. Asaph St\, Christchurch\, 8011\, New Zealand
CATEGORIES:Gig,Tour
ATTACH;FMTTYPE=image/png:https://soundsgood.guide/wp-content/uploads/2025/01/94116-508634.png
END:VEVENT
END:VCALENDAR