BEGIN:VCALENDAR
VERSION:2.0
PRODID:-//SoundsGood - ECPv4.9.4//NONSGML v1.0//EN
CALSCALE:GREGORIAN
METHOD:PUBLISH
X-WR-CALNAME:SoundsGood
X-ORIGINAL-URL:https://soundsgood.guide
X-WR-CALDESC:Events for SoundsGood
BEGIN:VTIMEZONE
TZID:"Pacific/Auckland"
BEGIN:STANDARD
TZOFFSETFROM:+1300
TZOFFSETTO:+1200
TZNAME:NZST
DTSTART:20240406T140000
END:STANDARD
BEGIN:DAYLIGHT
TZOFFSETFROM:+1200
TZOFFSETTO:+1300
TZNAME:NZDT
DTSTART:20240928T140000
END:DAYLIGHT
END:VTIMEZONE
BEGIN:VEVENT
DTSTART;TZID="Pacific/Auckland":20240608T200000
DTEND;TZID="Pacific/Auckland":20240608T200000
DTSTAMP:20260422T082109
CREATED:20240603T212610Z
LAST-MODIFIED:20240603T212610Z
UID:22637-1717876800-1717876800@soundsgood.guide
SUMMARY:Vagina Dry - On Tour - Chch Show
DESCRIPTION:Ōtepoti riot grrrl punk band V gina Dry wil be playing darkroom Christchurch on their national wide tour on Saturday June 8th!\nThey will be joined by Bear Trap\, Stonechild\, Only You\, and Peaking in Highschool \nTickets $10 unwaged/ $15 waged\, available now from Under the Radar:\nhttps://www.undertheradar.co.nz/tour/24758/Vagina-Dry.utr \nDoors open 8pm\nR18. R.O.A.R. \n
URL:https://soundsgood.guide/gig/vagina-dry-on-tour-chch-show/
LOCATION:darkroom\, 336 St. Asaph St\, Christchurch\, 8011\, NZ
ATTACH;FMTTYPE=image/png:https://soundsgood.guide/wp-content/uploads/2024/06/vag-poster-1.png
END:VEVENT
END:VCALENDAR