BEGIN:VCALENDAR
VERSION:2.0
PRODID:-//SoundsGood - ECPv4.9.4//NONSGML v1.0//EN
CALSCALE:GREGORIAN
METHOD:PUBLISH
X-WR-CALNAME:SoundsGood
X-ORIGINAL-URL:https://soundsgood.guide
X-WR-CALDESC:Events for SoundsGood
BEGIN:VTIMEZONE
TZID:"Pacific/Auckland"
BEGIN:STANDARD
TZOFFSETFROM:+1300
TZOFFSETTO:+1200
TZNAME:NZST
DTSTART:20250405T140000
END:STANDARD
BEGIN:DAYLIGHT
TZOFFSETFROM:+1200
TZOFFSETTO:+1300
TZNAME:NZDT
DTSTART:20250927T140000
END:DAYLIGHT
END:VTIMEZONE
BEGIN:VEVENT
DTSTART;TZID="Pacific/Auckland":20250411T203000
DTEND;TZID="Pacific/Auckland":20250411T233000
DTSTAMP:20260420T013900
CREATED:20250202T191923Z
LAST-MODIFIED:20250202T191923Z
UID:24696-1744403400-1744414200@soundsgood.guide
SUMMARY:Womb – Album Release Tour – NZ/AUS
DESCRIPTION:Join us for the release of our third album\, One Is Always Heading Somewhere. \nWith very special guest Mona Vasa! \nLove\, Womb xx \n
URL:https://soundsgood.guide/gig/womb-album-release-tour-nz-aus/
LOCATION:Space Academy\, 371 St Asaph St\, Christchurch\, 8011\, New Zealand
CATEGORIES:Gig,Release,Tour
ATTACH;FMTTYPE=image/png:https://soundsgood.guide/wp-content/uploads/2025/02/94488-640520.png
END:VEVENT
END:VCALENDAR